BEGIN:VCALENDAR
VERSION:2.0
PRODID:-//The Crystal Tide Rock &amp; Art Gallery - ECPv6.15.13//NONSGML v1.0//EN
CALSCALE:GREGORIAN
METHOD:PUBLISH
X-WR-CALNAME:The Crystal Tide Rock &amp; Art Gallery
X-ORIGINAL-URL:https://thecrystaltide.com
X-WR-CALDESC:Events for The Crystal Tide Rock &amp; Art Gallery
REFRESH-INTERVAL;VALUE=DURATION:PT1H
X-Robots-Tag:noindex
X-PUBLISHED-TTL:PT1H
BEGIN:VTIMEZONE
TZID:UTC
BEGIN:STANDARD
TZOFFSETFROM:+0000
TZOFFSETTO:+0000
TZNAME:UTC
DTSTART:20170101T000000
END:STANDARD
END:VTIMEZONE
BEGIN:VEVENT
DTSTART;TZID=UTC:20251206T100000
DTEND;TZID=UTC:20251206T150000
DTSTAMP:20260419T175132
CREATED:20251110T182119Z
LAST-MODIFIED:20260118T002450Z
UID:6988-1765015200-1765033200@thecrystaltide.com
SUMMARY:Tarot & Oracle Card Psychic Reader Kristin BriAnne ~ Feb. 14th
DESCRIPTION:Experience Divine Guidance: Tarot & Oracle Card Psychic Kristin BriAnne Visits Depoe Bay \nThe Crystal Tide Rock and Art Gallery is thrilled to welcome renowned intuitive reader Kristin BriAnne for an exclusive day of zodiac tarot readings on Saturday\, February 14th\, 2026\, from 10:00 a.m. to 3:00 p.m.. This special event offers coastal visitors and locals alike a unique opportunity to gain clarity\, align their intentions\, and discover their best path forward through the ancient art of tarot and oracle card reading. \nThe Enlight of Kristin BriAnne \nKristin BriAnne brings a refreshing approach to divination that combines traditional zodiac tarot wisdom with modern intuitive insight. Her readings are known for their perfect blend of spiritual guidance and straight-talking clarity—expect a little intuition\, a little sass\, and a whole lot of truth. \nWhether you’re seeking answers about love\, career\, personal growth\, or life direction\, Kristin’s readings help you tap into your own inner wisdom while providing the cosmic perspective you need. She specializes in zodiac tarot readings that guide your energy\, align your intentions\, and help you manifest your best timeline. Sessions often include collective and intuitive readings as well\, because as Kristin says\, “Spirit always has something to say.” \nEvent Details \nDate: Saturday\, February 14\, 2026\nTime: 10:00 AM – 3:00 PM\nLocation: The Crystal Tide Rock & Art Gallery\, 362 S. Highway 101\, Depoe Bay\, OR\nCost: $11 – $22 per reading\nFormat: Walk-ins only—no appointments needed! \nReadings will be conducted in a private studio space within The Crystal Tide\, ensuring an intimate and comfortable atmosphere for your session. This walk-in format means you can visit when the timing feels right\, making it perfect for spontaneous spiritual seekers or those incorporating a reading into their coastal getaway. \nThe Perfect Venue \nThe Crystal Tide Rock and Art Gallery provides an ideal setting for this mystical experience. Nestled along Oregon’s scenic coastline\, this sanctuary for crystal enthusiasts and art lovers offers an immersive journey into natural gemstones\, handcrafted art\, and metaphysical tools. Before or after your reading\, explore the gallery’s carefully curated collection of crystal specimens\, wire-wrapped jewelry\, tarot decks\, and works by local artisans. \nThe shop also features Arthead Studios\, where resident artist Clint Greeley and other talented creators showcase their distinctive works. The vibrant display of glass art\, tapestries\, candles\, and spiritual accessories creates an atmosphere that enhances the transformative experience of a tarot reading. \nTime Your Visit with the King Tides \nDecember 6th falls perfectly within Depoe Bay’s spectacular king tide period (December 4-6\, 2025)\, when the highest tides of the year create dramatic waves that crash over the seawall. Combine your tarot reading with nature’s most impressive coastal display for a truly memorable experience. Watch the powerful ocean from safe vantage points before or after your session—just remember to respect the water’s power and view from designated areas. \nAfter the tides recede\, try your hand at beachcombing for agates and shells\, treasures often revealed by the powerful wave action.\nPlanning Your Visit \nThe Crystal Tide is open Thursday and Friday from 11 AM to 5 PM\, Saturday from 10 AM to 5 PM\, and Sunday from 10 AM to 4 PM. For questions about the event or the gallery\, contact Jana at (360) 281-6206. \nLearn more about Kristin BriAnne and her work at https://linktr.ee/Kristin_BriAnne \nWhether you’re a longtime tarot enthusiast or curious newcomer\, this event offers a beautiful opportunity to receive guidance\, gain clarity\, and connect with your highest self in the enchanting coastal setting of Depoe Bay. Let the cards reveal what Spirit wants you to know. \nWitness Nature’s Most Spectacular Show: King Tides Return to Depoe Bay \nThe Oregon Coast is preparing for one of nature’s most awe-inspiring displays as king tides return to Depoe Bay this winter. Mark your calendars for December 4-6\, 2025\, and January 1-4\, 2026\, when the highest tides of the year will create dramatic waves that crash over seawalls and cliffs in a breathtaking demonstration of the ocean’s raw power. \nWhat Are King Tides? \nKing tides are a natural phenomenon that occurs when the Earth\, Moon\, and Sun align perfectly\, combining their gravitational forces to create exceptionally high tides. These aren’t caused by storms or unusual weather—they’re predictable celestial events that showcase the remarkable influence our solar system has on our oceans. \nIn Depoe Bay\, known as the “Whale Watching Capital of the Oregon Coast\,” king tides transform the coastline into a spectacular theater of crashing waves and ocean spray that can reach heights of 30 feet or more.\nWhen to Watch \nWinter 2025-2026 King Tide Dates: \nDecember 4-6\, 2025\nJanuary 1-4\, 2026 \nThe most dramatic wave action typically occurs around the peak high tide times\, but waves can be impressive for several hours before and after the tide peaks.\nSafety First: Viewing Guidelines \nWhile the spectacle is mesmerizing\, king tides demand respect and caution: \nSafe Viewing Locations: \nDepoe Bay’s seawall offers front-row seats to the action from a protected vantage point\nElevated lookouts throughout the town provide excellent\, safe viewing angles\nStay behind barriers and railings at all times \nCritical Safety Warnings: \nNever turn your back on the ocean during king tides\nBeware of sneaker waves: Calm periods can be dangerously deceptive. Without warning\, powerful waves can surge much further than normal\, sweeping people off their feet\nStay off beaches\, jetties\, and rocks during peak tide times\nRespect all safety barriers and heed warnings from the National Weather Service\nKeep a firm grip on children and pets at all times \nThe Beachcomber’s Bonus \nOnce the tides recede\, patient treasure hunters are often rewarded. King tides churn up the ocean floor and beaches\, bringing hidden treasures to the surface. Beachcombers frequently find beautiful agates\, unique shells\, sand dollars\, and other marine gifts in the aftermath of these powerful tides.\nPlan Your Visit \nDepoe Bay offers numerous accommodations\, restaurants\, and shops within walking distance of the best viewing areas. Winter on the Oregon Coast means fewer crowds and dramatic weather that makes the king tide experience even more memorable. \nWhether you’re a photographer seeking that perfect shot\, a nature enthusiast\, or simply someone who appreciates the ocean’s majesty\, the king tides in Depoe Bay offer an unforgettable experience. Just remember: the ocean’s beauty is matched only by its power. View safely\, and let nature’s spectacular show unfold before you. \nFor the latest tide predictions and safety updates\, check with local authorities and the National Weather Service before your visit.
URL:https://thecrystaltide.com/event/tarot-oracle-card-psychic-reader-kristin-brianne-dec-6th/
LOCATION:The Crystal Tide Rock & Art Gallery\, 362 S. Highway 101\, Depoe Bay\, OR\, 97341\, United States
ATTACH;FMTTYPE=image/jpeg:https://thecrystaltide.com/wp-content/uploads/2025/11/Reader-scaled-e1762808876785.jpg
ORGANIZER;CN="ArtHead Studios":MAILTO:cgre
END:VEVENT
BEGIN:VEVENT
DTSTART;VALUE=DATE:20251121
DTEND;VALUE=DATE:20251122
DTSTAMP:20260419T175132
CREATED:20251023T214602Z
LAST-MODIFIED:20251112T005051Z
UID:6584-1763683200-1763769599@thecrystaltide.com
SUMMARY:Happy Thanksgiving! Discover Thoughtful Gifts at The Crystal Tide’s In-Store Sale
DESCRIPTION:A Season of Gratitude and Meaningful Giving \nAs Thanksgiving approaches\, we find ourselves reflecting on the blessings of family\, friends\, and community. This year\, The Crystal Tide Rocks & Art Gallery invites you to express your gratitude through the art of thoughtful gift-giving. Whether you’re searching for unique Christmas presents that will truly touch the hearts of your loved ones\, or you’re ready to move beyond traditional alcohol gifts\, our Thanksgiving in-store sale offers the perfect opportunity to discover meaningful treasures that will be cherished for years to come. \nWhy Choose Crystals and Art This Holiday Season? \nIn a world of mass-produced items\, there’s something profoundly special about giving a gift that carries the earth’s natural energy and artistic intention. Unlike bottles of wine or spirits that disappear after a single evening\, crystals\, rocks\, and handcrafted art pieces become lasting symbols of your care and consideration. Each item tells a story—not just of its geological formation\, but of the thoughtfulness behind your choice.\nThe Perfect Alternative to Traditional Gifts \nMany people are seeking alternatives to alcohol as holiday presents\, and for good reason. While a bottle of wine might be enjoyed momentarily\, a carefully selected crystal or piece of art becomes a permanent fixture in someone’s home or personal collection. It’s a daily reminder of your relationship and the special bond you share. At The Crystal Tide\, we specialize in helping you find that perfect meaningful gift that speaks volumes about your appreciation and understanding of the recipient.\nThanksgiving Special Event Details \nMark your calendars for our special Thanksgiving sale event where you’ll discover exceptional value on our carefully curated collection: \n🗓️ Date: November 21st\n📍 Location: 362 S. Highway 101\, Depoe Bay\, OR 97341\n📞 Phone: (360) 281-6206\n🌐 View Venue Website: Find us on Google Maps\nDiscover The Crystal Tide Experience\nA Haven for Crystal Enthusiasts \nNestled along the scenic Oregon coast\, The Crystal Tide offers more than just a shopping experience—it’s a sanctuary for those seeking connection with nature’s most beautiful creations. Our diverse selection includes: \nRaw stones that showcase nature’s raw beauty and powerful energy\nPolished spheres that capture light and create mesmerizing displays\nPyramids and wands designed to focus and amplify energy\nEach piece carefully curated to serve as a source of grounding and spiritual elevation \nMany of our customers find that these crystals enhance their meditation practices\, promote emotional balance\, and foster personal growth. Imagine giving your loved one a gift that not only beautifies their space but also supports their wellbeing and spiritual journey. \nHandcrafted Jewelry with Meaning \nBeyond raw stones\, our collection features exquisite handcrafted jewelry that serves as both beautiful adornment and personal talisman. Our wire-wrapped crystal creations include: \nRings that keep healing energy close at hand\nNecklaces that rest near the heart center\nBracelets that provide continuous contact with crystal energies \nEach piece is crafted with intention\, combining the natural properties of crystals with artistic skill to create wearable art that speaks to the soul.\nMetaphysical Tools for Spiritual Growth \nFor those on a spiritual path\, we offer an assortment of tools designed to deepen your connection to your inner self: \nCrystal grids for manifesting intentions and creating sacred spaces\nTarot cards for guidance and self-reflection\nSpiritual accessories that support various practices and traditions \nArthead Studios: Where Local Artistry Shines \nThe Crystal Tide is also home to Arthead Studios\, where local artisans showcase their remarkable talents. Our gallery features: \nGlass art that captures light in stunning ways\nTapestries that bring warmth and color to any space\nArtisan candles with unique scents and designs\nApparel that expresses your spiritual journey \nResident artist Clint Greeley contributes distinctive creations that reflect the beauty of our coastal environment and the mystical qualities of natural materials. For those inspired to explore their own creativity\, we offer art classes that help you connect with your inner artist. \nWhy Shop Local This Thanksgiving? \nWhen you choose The Crystal Tide for your holiday shopping\, you’re not just getting exceptional value—you’re supporting a local business that cares deeply about our community. Our knowledgeable staff\, led by Jana\, is passionate about helping you find the perfect gifts that align with your intentions and budget. \nPersonalized Guidance \nNot sure which crystal would be perfect for your sister who’s starting a meditation practice? Wondering about the metaphysical properties of different stones? We’re here to help! Contact Jana via text at (360) 281-6206 for personalized guidance on selecting meaningful crystals and art pieces.\nAffordable Luxury for Everyone \nThis Thanksgiving\, we’re committed to making crystal and art gifts accessible to everyone. Our in-store sale features: \nSpecial pricing on select items\nBundle deals for multiple purchases\nExpert recommendations within any budget\nGift wrapping services to make your presents truly special \nJoin Us November 21st \nWhether you’re a seasoned crystal collector or a curious newcomer to the world of metaphysical gifts\, The Crystal Tide promises an enchanting journey into natural beauty and spiritual discovery. Our Thanksgiving sale is the perfect opportunity to: \nExplore our extensive collection at special prices\nMeet our knowledgeable staff and fellow crystal enthusiasts\nFind unique gifts that won’t be found in big-box stores\nExperience the peaceful energy of our coastal sanctuary \nWe’re open Thursday through Sunday with flexible hours to accommodate your holiday shopping schedule. Drop by November 21st to take advantage of our Thanksgiving specials\, or visit us anytime to discover the transformative power of crystals and art.\nYour Invitation to Meaningful Giving \nThis Thanksgiving\, step beyond the ordinary and embrace the extraordinary. The gifts you choose from The Crystal Tide aren’t just objects—they’re conduits of love\, healing\, and positive energy. They’re tokens of your deepest appreciation and understanding of the people you hold dear. \nVisit us November 21st and discover how the perfect crystal can become a cherished memory that lasts a lifetime. \nThe Crystal Tide Rocks & Art Gallery: Where Earth’s Treasures Meet Artistic Expression 362 S. Highway 101\, Depoe Bay\, OR 97341 | (360) 281-6206
URL:https://thecrystaltide.com/event/thanksgiving-in-store-sale/
LOCATION:The Crystal Tide Rock & Art Gallery\, 362 S. Highway 101\, Depoe Bay\, OR\, 97341\, United States
ATTACH;FMTTYPE=image/jpeg:https://thecrystaltide.com/wp-content/uploads/2018/01/show-scaled.jpg
ORGANIZER;CN="ArtHead Studios":MAILTO:cgre
END:VEVENT
BEGIN:VEVENT
DTSTART;VALUE=DATE:20251023
DTEND;VALUE=DATE:20251024
DTSTAMP:20260419T175132
CREATED:20251023T214736Z
LAST-MODIFIED:20251023T214736Z
UID:6586-1761177600-1761263999@thecrystaltide.com
SUMMARY:test
DESCRIPTION:
URL:https://thecrystaltide.com/event/test/
LOCATION:OR
END:VEVENT
BEGIN:VEVENT
DTSTART;TZID=UTC:20180511T080000
DTEND;TZID=UTC:20180513T170000
DTSTAMP:20260419T175132
CREATED:20180203T144614Z
LAST-MODIFIED:20180203T144614Z
UID:4152-1526025600-1526230800@thecrystaltide.com
SUMMARY:Spring Tour & Art Sale
DESCRIPTION:
URL:https://thecrystaltide.com/event/spring-tour-art-sale/
LOCATION:Spring Tour & Art Sale\, 15118 NW 37th Ave\, Clark County\, WA\, 98685\, United States
ORGANIZER;CN="ArtHead Studios":MAILTO:cgre
END:VEVENT
END:VCALENDAR